BEGIN:VCALENDAR
VERSION:2.0
PRODID:-//centromulticultural - ECPv6.15.20//NONSGML v1.0//EN
CALSCALE:GREGORIAN
METHOD:PUBLISH
X-ORIGINAL-URL:https://centromulticultural.org
X-WR-CALDESC:Events for centromulticultural
REFRESH-INTERVAL;VALUE=DURATION:PT1H
X-Robots-Tag:noindex
X-PUBLISHED-TTL:PT1H
BEGIN:VTIMEZONE
TZID:UTC
BEGIN:STANDARD
TZOFFSETFROM:+0000
TZOFFSETTO:+0000
TZNAME:UTC
DTSTART:20240101T000000
END:STANDARD
END:VTIMEZONE
BEGIN:VEVENT
DTSTART;TZID=UTC:20251024T170000
DTEND;TZID=UTC:20251024T203000
DTSTAMP:20260424T102019
CREATED:20251003T150532Z
LAST-MODIFIED:20251007T173259Z
UID:1037-1761325200-1761337800@centromulticultural.org
SUMMARY:Wine tasting for a cause
DESCRIPTION:Join us this Friday\, October 24 from 5:00 to 8:30 pm at Centro Multicultural la Familia 91 N Saginaw\, Pontiac\, MI\, for a special evening together. \n🎟 Admission Options \n\nGeneral Admission – $20\nIncludes event entry and live music.\n(Wine\, beverages\, and charcuterie boards will be available for purchase separately.)\nVIP Table – $250\nIncludes general admission for 4 guests\, a reserved table\, and one bottle of wine.\n\n🥂 Additional Menu Available for Purchase \n\nCharcuterie board – $20 USD\nCup of wine or beer – $10 USD each\nFlight of 4 wines (tasting) – $10 USD\nWine bottle – $40 USD\nBottle of water – $2 USD\nSparkling water – $5 USD\n\n✨ Your participation makes a difference: all proceeds will support the community programs of Centro Multicultural La Familia. \n👉 To buy your tickets: https://auction.biddingforgood.com/auction/341818941 \nOr email cparra@centromulticultural.org or call 313-5978-8364 to receive more details.
URL:https://centromulticultural.org/event/wine-tasting-for-a-cause/
LOCATION:Centro Multicultural  91 N Saginaw St\, 91 N Saginaw St\, Pontiac\, MI\, 48342\, United States
ATTACH;FMTTYPE=image/png:https://centromulticultural.org/wp-content/uploads/2025/10/2-1.png
END:VEVENT
BEGIN:VEVENT
DTSTART;TZID=UTC:20260430T173000
DTEND;TZID=UTC:20260430T193000
DTSTAMP:20260424T102019
CREATED:20260401T190403Z
LAST-MODIFIED:20260401T190403Z
UID:1103-1777570200-1777577400@centromulticultural.org
SUMMARY:Día del niño
DESCRIPTION:En Centro nos comprometemos y buscamos visibilizar que todas los niñ@s sean cuidad@s\, protegid@s y atesorad@s.  Abril es el mes de la concientización y prevención del maltrato y abuso infantil.\n\n¡Por eso queremos celebrar el día del niño y aprovechar a enseñar la prevención del abuso a los niños de nuestra comunidad! \n\nVen\, diviértete y aprende con nosotr@s. \n\n Link de registro: https://forms.gle/p1B1J5UK5dPPQPJJ9
URL:https://centromulticultural.org/event/dia-del-nino/
LOCATION:Centro Multicultural  91 N Saginaw St\, 91 N Saginaw St\, Pontiac\, MI\, 48342\, United States
ATTACH;FMTTYPE=image/png:https://centromulticultural.org/wp-content/uploads/2026/04/CAP-MONTH-DIA-DEL-NIN@.png
END:VEVENT
BEGIN:VEVENT
DTSTART;TZID=UTC:20260508T160000
DTEND;TZID=UTC:20260508T200000
DTSTAMP:20260424T102019
CREATED:20260421T223103Z
LAST-MODIFIED:20260421T223103Z
UID:1130-1778256000-1778270400@centromulticultural.org
SUMMARY:Feria del 5 de Mayo
DESCRIPTION:Por 5º año consecutivo\, Centro Multicultural La Familia estará organizando su Feria del 5 de Mayo. 🎉\n\n  \nLa entrada es completamente gratuita para el público en general. Habrá muchas actividades\, comida\, recursos y cosas divertidas para toda la familia ✨🎶💃🏻 \n  \n✨ ¿Tienes un negocio\, producto o servicio? \nTe invitamos a registrarte como vendor\, una excelente oportunidad para promocionar\, dar a conocer y vender lo que ofreces: \n🔗 Link de registro: https://forms.gle/bYgFicFrNpUkNo9j8 \n  \n🤝 ¿Te interesa apoyar este evento y nuestra causa?\nConviértete en sponsor: \n🔗 Link de registro: https://forms.gle/hr8Fj9Xy9CHEHUpM7 \n  \n📞 Si tienes alguna pregunta\, no dudes en llamarnos al: 248-858-7800 \n  \nEste evento es una gran oportunidad para conectar con la comunidad y seguir celebrando nuestras raíces.
URL:https://centromulticultural.org/event/feria-del-5-de-mayo/
LOCATION:Centro Multicultural  91 N Saginaw St\, 91 N Saginaw St\, Pontiac\, MI\, 48342\, United States
ATTACH;FMTTYPE=image/png:https://centromulticultural.org/wp-content/uploads/2026/04/1.png
END:VEVENT
END:VCALENDAR