BEGIN:VCALENDAR
VERSION:2.0
PRODID:-//centromulticultural - ECPv6.15.20//NONSGML v1.0//EN
CALSCALE:GREGORIAN
METHOD:PUBLISH
X-WR-CALNAME:centromulticultural
X-ORIGINAL-URL:https://centromulticultural.org
X-WR-CALDESC:Events for centromulticultural
REFRESH-INTERVAL;VALUE=DURATION:PT1H
X-Robots-Tag:noindex
X-PUBLISHED-TTL:PT1H
BEGIN:VTIMEZONE
TZID:UTC
BEGIN:STANDARD
TZOFFSETFROM:+0000
TZOFFSETTO:+0000
TZNAME:UTC
DTSTART:20230101T000000
END:STANDARD
END:VTIMEZONE
BEGIN:VEVENT
DTSTART;TZID=UTC:20240301T110000
DTEND;TZID=UTC:20240301T130000
DTSTAMP:20260421T142238
CREATED:20240123T040124Z
LAST-MODIFIED:20240123T040124Z
UID:473-1709290800-1709298000@centromulticultural.org
SUMMARY:Healthy Food\, Healthy Families Workshop
DESCRIPTION:You will have the opportunity to learn to:\n\n\n– Prepare healthy foods.\n– Understand and read food labels\n– Save money when shopping\nAnd much more!
URL:https://centromulticultural.org/event/healthy-food-healthy-families-workshop-2/
LOCATION:Centro Multicultural Events\, 91 N. Saginaw\, Pontiac\, MI\, 48342\, United States
ATTACH;FMTTYPE=image/jpeg:https://centromulticultural.org/wp-content/uploads/2024/01/English-6.jpg
END:VEVENT
BEGIN:VEVENT
DTSTART;TZID=UTC:20240312T113000
DTEND;TZID=UTC:20240312T133000
DTSTAMP:20260421T142238
CREATED:20240307T150106Z
LAST-MODIFIED:20240307T150106Z
UID:512-1710243000-1710250200@centromulticultural.org
SUMMARY:Charcuterie Board/Taller de Charcutería
DESCRIPTION:Una Tabla de Charcutería es importante hacerla cuando tienes invitados especiales en tu hogar. Las\ntablas de Charcuteria ofrece una variedad de sabores y texturas que pueden complacer a diferentes\ngustos. Ademas compartir alimentos juntos fomenta la conversación y la conexión entre los invitados\, lo\nque puede mejorar las relaciones sociales al crear un ambiente acogedor y compartido. \nA Charcuterie board is important to make when you have special guest in your home. Charcuterie\nBoards offers a variety of flavors and textures that can cater to different tastes. Additionally\, sharing\nfood together fosters conversation and connection among guests\, which can enhance social\nrelationships by creating a warm and shared ambiance.
URL:https://centromulticultural.org/event/charcuterie-board-taller-de-charcuteria/
LOCATION:Centro Multicultural Events\, 91 N. Saginaw\, Pontiac\, MI\, 48342\, United States
ATTACH;FMTTYPE=image/jpeg:https://centromulticultural.org/wp-content/uploads/2024/03/Explorando-la-Diversidad-de-Personalidades.-600-x-500-px-1.jpg
END:VEVENT
BEGIN:VEVENT
DTSTART;TZID=UTC:20240313T173000
DTEND;TZID=UTC:20240313T193000
DTSTAMP:20260421T142238
CREATED:20240307T150207Z
LAST-MODIFIED:20240307T150207Z
UID:515-1710351000-1710358200@centromulticultural.org
SUMMARY:Charcuterie Board/Taller de Charcutería
DESCRIPTION:Una Tabla de Charcutería es importante hacerla cuando tienes invitados especiales en tu hogar. Las\ntablas de Charcuteria ofrece una variedad de sabores y texturas que pueden complacer a diferentes\ngustos. Ademas compartir alimentos juntos fomenta la conversación y la conexión entre los invitados\, lo\nque puede mejorar las relaciones sociales al crear un ambiente acogedor y compartido. \nA Charcuterie board is important to make when you have special guest in your home. Charcuterie\nBoards offers a variety of flavors and textures that can cater to different tastes. Additionally\, sharing\nfood together fosters conversation and connection among guests\, which can enhance social\nrelationships by creating a warm and shared ambiance.
URL:https://centromulticultural.org/event/charcuterie-board-taller-de-charcuteria-2/
LOCATION:Centro Multicultural Events\, 91 N. Saginaw\, Pontiac\, MI\, 48342\, United States
ATTACH;FMTTYPE=image/jpeg:https://centromulticultural.org/wp-content/uploads/2024/03/Explorando-la-Diversidad-de-Personalidades.-600-x-500-px-1.jpg
END:VEVENT
BEGIN:VEVENT
DTSTART;TZID=UTC:20240314T140000
DTEND;TZID=UTC:20240314T170000
DTSTAMP:20260421T142238
CREATED:20240226T170612Z
LAST-MODIFIED:20240228T042708Z
UID:495-1710424800-1710435600@centromulticultural.org
SUMMARY:Health Fair
DESCRIPTION:Because we want to take care of you\, we offer you a variety  of medical services that include: \n\n Sexually Transmitted Infections Testing\nVaccines for all ages\n\nPneumonia\nHepA\n• Hep B\nShingles\nTDAP\nHPV\nMMR\nVaricella\nFlu\nCOVID-19
URL:https://centromulticultural.org/event/health-fair-3-2/
LOCATION:Centro Multicultural Events\, 91 N. Saginaw\, Pontiac\, MI\, 48342\, United States
ATTACH;FMTTYPE=image/jpeg:https://centromulticultural.org/wp-content/uploads/2024/02/Ingles-Ferias-de-salud.jpg
END:VEVENT
BEGIN:VEVENT
DTSTART;TZID=UTC:20240314T140000
DTEND;TZID=UTC:20240314T180000
DTSTAMP:20260421T142238
CREATED:20240226T174105Z
LAST-MODIFIED:20240228T042631Z
UID:499-1710424800-1710439200@centromulticultural.org
SUMMARY:World Kidney Day
DESCRIPTION:Take charge of your kidney health!\nJoin us for a urine kidney test to detect potential issues early on. \nUrinalysis\nHaving a small amount of protein in your urine may indicate that your kidneys aren’t filtering blood well enough \nVaccines available\nCOVID-19\, influenza\, human papilomavirus and more.
URL:https://centromulticultural.org/event/world-kidney-day/
LOCATION:Centro Multicultural Events\, 91 N. Saginaw\, Pontiac\, MI\, 48342\, United States
ATTACH;FMTTYPE=image/jpeg:https://centromulticultural.org/wp-content/uploads/2024/02/Ingles-Kidney-.jpg
END:VEVENT
BEGIN:VEVENT
DTSTART;TZID=UTC:20240316T170000
DTEND;TZID=UTC:20240316T200000
DTSTAMP:20260421T142238
CREATED:20240228T044210Z
LAST-MODIFIED:20240228T044210Z
UID:503-1710608400-1710619200@centromulticultural.org
SUMMARY:Muro de Cráneos\, Tzompantli: La Fuerza de La Vida
DESCRIPTION:Es un gusto para Centro Multicultural y CasArt Foundation invitarlos a Muro de Cráneos\, Tzompantli 2024 un magnífico evento\, creado para dar a conocer el uso de cráneos en Mesoamérica como símbolo de fertilidad y continuidad de la vida.\n\n\n\nAcompáñanos a disfrutar una tarde llena de arte e historia viendo artistas pintar en vivo\, ver una danza Azteca\, y escuchar música prehispánica interactiva.\n\n\n\nJoin us to enjoy an evening full of art and history as we watch multicultural and multiracial artists paint live\, perform Aztec dance\, and listen to an interactive Indigenous music presentation.\n\n\n\nAdults only
URL:https://centromulticultural.org/event/muro-de-craneos-tzompantli-la-fuerza-de-la-vida/
LOCATION:Centro Multicultural Events\, 91 N. Saginaw\, Pontiac\, MI\, 48342\, United States
ATTACH;FMTTYPE=image/jpeg:https://centromulticultural.org/wp-content/uploads/2024/02/MURO-DE-CRANEOS-final-flyers-600-x-500-px.jpg
END:VEVENT
BEGIN:VEVENT
DTSTART;TZID=UTC:20240319T090000
DTEND;TZID=UTC:20240319T140000
DTSTAMP:20260421T142238
CREATED:20231212T184028Z
LAST-MODIFIED:20231212T184153Z
UID:451-1710838800-1710856800@centromulticultural.org
SUMMARY:Mobil Mammogram Unit
DESCRIPTION:  \n\nWe invite you to the Mobile Mammogram Unit!\n\n\n\nRequirements:\n– Age: 40 to 64 years old\n– Have more than 1 year of your last exam\n– Uninsured or under-insured (high out of pocket costs due to insurance deductibles)\n– Michigan residents\n\n\n\n\n\n\nAfter your registration\, a staff from the Ventanilla de Salud will contact you to confirm your appointment.\n\n\n Call us for more information 313 597 8838 Carolina Sisiruca
URL:https://centromulticultural.org/event/mobil-mammogram-unit/
LOCATION:Consulate of Mexico in Detroit\, 1403 E 12 Mile Rd\, Madison Heights\, MI\, 48071\, United States
ATTACH;FMTTYPE=image/jpeg:https://centromulticultural.org/wp-content/uploads/2023/12/2024-Unidad-Movil-de-Mamografia-600-x-500-px.jpg
END:VEVENT
BEGIN:VEVENT
DTSTART;TZID=UTC:20240328T140000
DTEND;TZID=UTC:20240328T170000
DTSTAMP:20260421T142238
CREATED:20240226T170704Z
LAST-MODIFIED:20240228T042522Z
UID:496-1711634400-1711645200@centromulticultural.org
SUMMARY:Health Fair
DESCRIPTION:Because we want to take care of you\, we offer you a variety  of medical services that include: \n\n Sexually Transmitted Infections Testing\nVaccines for all ages\n\nPneumonia\nHepA\n• Hep B\nShingles\nTDAP\nHPV\nMMR\nVaricella\nFlu\nCOVID-19
URL:https://centromulticultural.org/event/health-fair-3-2-2/
LOCATION:Centro Multicultural Events\, 91 N. Saginaw\, Pontiac\, MI\, 48342\, United States
ATTACH;FMTTYPE=image/jpeg:https://centromulticultural.org/wp-content/uploads/2024/02/Ingles-Ferias-de-salud.jpg
END:VEVENT
END:VCALENDAR